BEGIN:VCALENDAR
VERSION:2.0
PRODID:-//www.ywcalincoln.org//NONSGML kigkonsult.se iCalcreator 2.30.10//
CALSCALE:GREGORIAN
METHOD:PUBLISH
UID:42684d83-1f8f-41b1-9120-ca4bc5348269
X-WR-CALDESC:
X-WR-RELCALID:f8653e97e077f71e4b9d9563c6d1dc98
X-WR-TIMEZONE:America/Chicago
BEGIN:VTIMEZONE
TZID:America/Chicago
BEGIN:STANDARD
TZNAME:CST
DTSTART:20231105T020000
TZOFFSETFROM:-0500
TZOFFSETTO:-0600
RDATE:20241103T020000
END:STANDARD
BEGIN:DAYLIGHT
TZNAME:CDT
DTSTART:20230312T020000
TZOFFSETFROM:-0600
TZOFFSETTO:-0500
RDATE:20240310T020000
RDATE:20250309T020000
END:DAYLIGHT
END:VTIMEZONE
BEGIN:VEVENT
UID:463dc712-fb96-4612-8a83-670e2184e01e
DTSTAMP:20260423T095236Z
DESCRIPTION:
DTSTART;TZID=America/Chicago:20231207T144500
DTEND;TZID=America/Chicago:20231207T160000
LOCATION:
SUMMARY:Belmont Elementary SMART Girls Club
END:VEVENT
END:VCALENDAR
