BEGIN:VCALENDAR
VERSION:2.0
PRODID:-//www.ywcalincoln.org//NONSGML kigkonsult.se iCalcreator 2.30.10//
CALSCALE:GREGORIAN
METHOD:PUBLISH
UID:5cfeba23-7c34-46e1-9c79-7b4e7f4bb5cf
X-WR-CALDESC:Join us for a fun-filled evening of laughter\, great conversat
 ions\, and delicious wine at Suite One Eleven in Lincoln\, NE\, USA. Get r
 eady to be entertained by a lineup of hilarious and talented witty women. 
 This in-person event promises to be a fantastic opportunity to unwind\, en
 joy some quality time with friends\, and support a great cause. Don't miss
  out on this fabulous night of laughter and wine!\n\nDoors will open at 6:
 30pm. A cash bar and light snacks will be available. Purchase tickets belo
 w!
X-WR-RELCALID:6585088852b4df1550843125374caccb
X-WR-TIMEZONE:America/Chicago
BEGIN:VTIMEZONE
TZID:America/Chicago
BEGIN:STANDARD
TZNAME:CST
DTSTART:20231105T020000
TZOFFSETFROM:-0500
TZOFFSETTO:-0600
RDATE:20241103T020000
END:STANDARD
BEGIN:DAYLIGHT
TZNAME:CDT
DTSTART:20230312T020000
TZOFFSETFROM:-0600
TZOFFSETTO:-0500
RDATE:20240310T020000
RDATE:20250309T020000
END:DAYLIGHT
END:VTIMEZONE
BEGIN:VEVENT
UID:6c993635-d986-4e03-895e-14156fd8a39d
DTSTAMP:20260423T094347Z
DESCRIPTION:Join us for a fun-filled evening of laughter\, great conversati
 ons\, and delicious wine at Suite One Eleven in Lincoln\, NE\, USA. Get re
 ady to be entertained by a lineup of hilarious and talented witty women. T
 his in-person event promises to be a fantastic opportunity to unwind\, enj
 oy some quality time with friends\, and support a great cause. Don't miss 
 out on this fabulous night of laughter and wine!\n\nDoors will open at 6:3
 0pm. A cash bar and light snacks will be available. Purchase tickets below
 !
DTSTART;TZID=America/Chicago:20231205T190000
DTEND;TZID=America/Chicago:20231205T203000
LOCATION:6891 A Street\, #111\, Lincoln \, NE 68510 US
SUMMARY:Witty Women & Wine Comedy Show
END:VEVENT
END:VCALENDAR
