BEGIN:VCALENDAR
VERSION:2.0
PRODID:-//www.ywcalincoln.org//NONSGML kigkonsult.se iCalcreator 2.30.10//
CALSCALE:GREGORIAN
METHOD:PUBLISH
UID:d74bac52-b860-4cf8-b8a2-8b21467adf09
X-WR-CALDESC:
X-WR-RELCALID:2d2c2c003a7a98b1a66e60530fa455e6
X-WR-TIMEZONE:America/Chicago
BEGIN:VTIMEZONE
TZID:America/Chicago
BEGIN:STANDARD
TZNAME:CST
DTSTART:20231105T020000
TZOFFSETFROM:-0500
TZOFFSETTO:-0600
RDATE:20241103T020000
END:STANDARD
BEGIN:DAYLIGHT
TZNAME:CDT
DTSTART:20230312T020000
TZOFFSETFROM:-0600
TZOFFSETTO:-0500
RDATE:20240310T020000
RDATE:20250309T020000
END:DAYLIGHT
END:VTIMEZONE
BEGIN:VEVENT
UID:6d60a783-6ba2-4bb3-8856-047ec50d2db4
DTSTAMP:20260423T111847Z
DESCRIPTION:
DTSTART;TZID=America/Chicago:20231130T144500
DTEND;TZID=America/Chicago:20231130T160000
LOCATION:
SUMMARY:Holmes Elementary School SMART Girls Club
END:VEVENT
END:VCALENDAR
