BEGIN:VCALENDAR
VERSION:2.0
PRODID:-//www.ywcalincoln.org//NONSGML kigkonsult.se iCalcreator 2.30.10//
CALSCALE:GREGORIAN
METHOD:PUBLISH
UID:4107db7e-6aec-4aa6-9b3f-e2b52a31b1b2
X-WR-CALDESC:
X-WR-RELCALID:b7e7ca93e939975a3bb2d4ee1900b1e4
X-WR-TIMEZONE:America/Chicago
BEGIN:VTIMEZONE
TZID:America/Chicago
BEGIN:STANDARD
TZNAME:CST
DTSTART:20231105T020000
TZOFFSETFROM:-0500
TZOFFSETTO:-0600
RDATE:20241103T020000
END:STANDARD
BEGIN:DAYLIGHT
TZNAME:CDT
DTSTART:20230312T020000
TZOFFSETFROM:-0600
TZOFFSETTO:-0500
RDATE:20240310T020000
RDATE:20250309T020000
END:DAYLIGHT
END:VTIMEZONE
BEGIN:VEVENT
UID:3e9b34bb-b400-447d-a9ef-b7e87565bf11
DTSTAMP:20260423T111111Z
DESCRIPTION:
DTSTART;TZID=America/Chicago:20231124T094500
DTEND;TZID=America/Chicago:20231124T114500
LOCATION:
SUMMARY:Goodrich Middle School Girls Circle
END:VEVENT
END:VCALENDAR
