BEGIN:VCALENDAR
VERSION:2.0
PRODID:-//www.ywcalincoln.org//NONSGML kigkonsult.se iCalcreator 2.30.10//
CALSCALE:GREGORIAN
METHOD:PUBLISH
UID:c3ecf746-cf25-4db8-98cc-4a88d40aed7f
X-WR-CALDESC:
X-WR-RELCALID:69e56cdd2fd6ebeca4ae7dd6dea9d07a
X-WR-TIMEZONE:America/Chicago
BEGIN:VTIMEZONE
TZID:America/Chicago
BEGIN:STANDARD
TZNAME:CST
DTSTART:20231105T020000
TZOFFSETFROM:-0500
TZOFFSETTO:-0600
RDATE:20241103T020000
END:STANDARD
BEGIN:DAYLIGHT
TZNAME:CDT
DTSTART:20230312T020000
TZOFFSETFROM:-0600
TZOFFSETTO:-0500
RDATE:20240310T020000
RDATE:20250309T020000
END:DAYLIGHT
END:VTIMEZONE
BEGIN:VEVENT
UID:19fda718-a011-4858-a193-7e5352e76171
DTSTAMP:20260423T110513Z
DESCRIPTION:
DTSTART;TZID=America/Chicago:20231117T180000
DTEND;TZID=America/Chicago:20231117T200000
LOCATION:
SUMMARY:Take A Break Programming
END:VEVENT
END:VCALENDAR
