BEGIN:VCALENDAR
VERSION:2.0
PRODID:-//www.ywcalincoln.org//NONSGML kigkonsult.se iCalcreator 2.30.10//
CALSCALE:GREGORIAN
METHOD:PUBLISH
UID:c4acd4dc-0114-4205-a98c-8508e86f7828
X-WR-CALDESC:
X-WR-RELCALID:8b8d811d2ba9bee8b64f2d3520192a4c
X-WR-TIMEZONE:America/Chicago
BEGIN:VTIMEZONE
TZID:America/Chicago
BEGIN:STANDARD
TZNAME:CST
DTSTART:20231105T020000
TZOFFSETFROM:-0500
TZOFFSETTO:-0600
RDATE:20241103T020000
END:STANDARD
BEGIN:DAYLIGHT
TZNAME:CDT
DTSTART:20230312T020000
TZOFFSETFROM:-0600
TZOFFSETTO:-0500
RDATE:20240310T020000
RDATE:20250309T020000
END:DAYLIGHT
END:VTIMEZONE
BEGIN:VEVENT
UID:b45ff19e-2ded-457e-9a44-3af18768ee73
DTSTAMP:20260423T112444Z
DESCRIPTION:
DTSTART;TZID=America/Chicago:20231115T144500
DTEND;TZID=America/Chicago:20231115T160000
LOCATION:
SUMMARY:Beattie Elementary School SMART Girls Club
END:VEVENT
END:VCALENDAR
