BEGIN:VCALENDAR
VERSION:2.0
PRODID:-//www.ywcalincoln.org//NONSGML kigkonsult.se iCalcreator 2.30.10//
CALSCALE:GREGORIAN
METHOD:PUBLISH
UID:b265cc40-7386-48cf-91d3-564160b22aaf
X-WR-CALDESC:Goodwill Job Center\n1731 O Street \nLincoln\, NE 68508\n(402)
  477-4924\n\nNo Appointment Necessary
X-WR-RELCALID:08b62e73090f168fa82db78aec1c1a21
X-WR-TIMEZONE:America/Chicago
BEGIN:VTIMEZONE
TZID:America/Chicago
BEGIN:STANDARD
TZNAME:CST
DTSTART:20231105T020000
TZOFFSETFROM:-0500
TZOFFSETTO:-0600
RDATE:20241103T020000
END:STANDARD
BEGIN:DAYLIGHT
TZNAME:CDT
DTSTART:20230312T020000
TZOFFSETFROM:-0600
TZOFFSETTO:-0500
RDATE:20240310T020000
RDATE:20250309T020000
END:DAYLIGHT
END:VTIMEZONE
BEGIN:VEVENT
UID:311645c8-36c5-4791-bbf3-214b61210c96
DTSTAMP:20260423T112317Z
DESCRIPTION:Goodwill Job Center\n1731 O Street \nLincoln\, NE 68508\n(402) 
 477-4924\n\nNo Appointment Necessary
DTSTART;TZID=America/Chicago:20231114T130000
DTEND;TZID=America/Chicago:20231114T140000
LOCATION:Goodwill Job Center
SUMMARY:Job Outfitters
END:VEVENT
END:VCALENDAR
