BEGIN:VCALENDAR
VERSION:2.0
PRODID:-//www.ywcalincoln.org//NONSGML kigkonsult.se iCalcreator 2.30.10//
CALSCALE:GREGORIAN
METHOD:PUBLISH
UID:13fddf3c-1c46-46d5-9149-7c2d919291f3
X-WR-CALDESC:
X-WR-RELCALID:3e7768a81f8a8107ac4028fa589dc0d3
X-WR-TIMEZONE:America/Chicago
BEGIN:VTIMEZONE
TZID:America/Chicago
BEGIN:STANDARD
TZNAME:CST
DTSTART:20231105T020000
TZOFFSETFROM:-0500
TZOFFSETTO:-0600
RDATE:20241103T020000
END:STANDARD
BEGIN:DAYLIGHT
TZNAME:CDT
DTSTART:20230312T020000
TZOFFSETFROM:-0600
TZOFFSETTO:-0500
RDATE:20240310T020000
RDATE:20250309T020000
END:DAYLIGHT
END:VTIMEZONE
BEGIN:VEVENT
UID:3855a1b8-a3c0-4809-a9ad-425d4358d1de
DTSTAMP:20260423T110821Z
DESCRIPTION:
DTSTART;TZID=America/Chicago:20231109T094500
DTEND;TZID=America/Chicago:20231109T114500
LOCATION:
SUMMARY:Irving Middle School Girls Circle
END:VEVENT
END:VCALENDAR
