BEGIN:VCALENDAR
VERSION:2.0
PRODID:-//www.ywcalincoln.org//NONSGML kigkonsult.se iCalcreator 2.30.10//
CALSCALE:GREGORIAN
METHOD:PUBLISH
UID:66e67d2c-c781-4a2f-8ff7-ca9112674783
X-WR-CALDESC:
X-WR-RELCALID:6ee448ff446b4fce87eb709946264105
X-WR-TIMEZONE:America/Chicago
BEGIN:VTIMEZONE
TZID:America/Chicago
BEGIN:STANDARD
TZNAME:CST
DTSTART:20221106T020000
TZOFFSETFROM:-0500
TZOFFSETTO:-0600
RDATE:20231105T020000
RDATE:20241103T020000
END:STANDARD
BEGIN:DAYLIGHT
TZNAME:CDT
DTSTART:20230312T020000
TZOFFSETFROM:-0600
TZOFFSETTO:-0500
RDATE:20240310T020000
RDATE:20250309T020000
END:DAYLIGHT
END:VTIMEZONE
BEGIN:VEVENT
UID:6809064f-d261-4367-aa63-a492e77fdea6
DTSTAMP:20260423T110820Z
DESCRIPTION:
DTSTART;TZID=America/Chicago:20231106T153000
DTEND;TZID=America/Chicago:20231106T170000
LOCATION:
SUMMARY:Lincoln High School CATCH Program with Guest Speaker: County Commis
 sioner Christa Yoakum
END:VEVENT
END:VCALENDAR
