BEGIN:VCALENDAR
VERSION:2.0
PRODID:-//www.ywcalincoln.org//NONSGML kigkonsult.se iCalcreator 2.30.10//
CALSCALE:GREGORIAN
METHOD:PUBLISH
UID:d314ac83-49b0-4e8c-86f7-ff87c27e0827
X-WR-CALDESC:
X-WR-RELCALID:868a9180631418fb2e03f86f365c20de
X-WR-TIMEZONE:America/Chicago
BEGIN:VTIMEZONE
TZID:America/Chicago
BEGIN:STANDARD
TZNAME:CST
DTSTART:20221106T020000
TZOFFSETFROM:-0500
TZOFFSETTO:-0600
RDATE:20231105T020000
RDATE:20241103T020000
END:STANDARD
BEGIN:DAYLIGHT
TZNAME:CDT
DTSTART:20230312T020000
TZOFFSETFROM:-0600
TZOFFSETTO:-0500
RDATE:20240310T020000
RDATE:20250309T020000
END:DAYLIGHT
END:VTIMEZONE
BEGIN:VEVENT
UID:11a36d73-de0d-479e-8c18-f03596829008
DTSTAMP:20260423T111519Z
DESCRIPTION:
DTSTART;TZID=America/Chicago:20231102T144500
DTEND;TZID=America/Chicago:20231102T160000
LOCATION:
SUMMARY:Holmes Elementary School SMART Girls Club
END:VEVENT
END:VCALENDAR
