BEGIN:VCALENDAR
VERSION:2.0
PRODID:-//www.ywcalincoln.org//NONSGML kigkonsult.se iCalcreator 2.30.10//
CALSCALE:GREGORIAN
METHOD:PUBLISH
UID:9aaabf70-eacf-487a-a8bd-30991b0afa40
X-WR-CALDESC:YWCA Lincoln will be hosting our second annual Trunk or Treat 
 Event! Please come visit us from 6 PM - 8 PM! The event will be help in th
 e parking lot with the west entrance. If you are a community partner and w
 ould have been invited to have a trunk\, please register here! \n\nIf you 
 are a participant and would like to walk through our trunks\, no registrat
 ion is necessary! Please park in the front of Planned Parenthood and walk 
 to the back of the building to participate in the Trunk or Treat event! We
  will have a few different stations for you to get socks\, hats\, glove an
 d scarfs again this year!
X-WR-RELCALID:32da2d53120d5f53870477806a53f945
X-WR-TIMEZONE:America/Chicago
BEGIN:VTIMEZONE
TZID:America/Chicago
BEGIN:STANDARD
TZNAME:CST
DTSTART:20221106T020000
TZOFFSETFROM:-0500
TZOFFSETTO:-0600
RDATE:20231105T020000
RDATE:20241103T020000
END:STANDARD
BEGIN:DAYLIGHT
TZNAME:CDT
DTSTART:20230312T020000
TZOFFSETFROM:-0600
TZOFFSETTO:-0500
RDATE:20240310T020000
RDATE:20250309T020000
END:DAYLIGHT
END:VTIMEZONE
BEGIN:VEVENT
UID:3d7f1ae0-23f1-443b-a7d0-3040370b69eb
DTSTAMP:20260423T124701Z
DESCRIPTION:YWCA Lincoln will be hosting our second annual Trunk or Treat E
 vent! Please come visit us from 6 PM - 8 PM! The event will be help in the
  parking lot with the west entrance. If you are a community partner and wo
 uld have been invited to have a trunk\, please register here! \n\nIf you a
 re a participant and would like to walk through our trunks\, no registrati
 on is necessary! Please park in the front of Planned Parenthood and walk t
 o the back of the building to participate in the Trunk or Treat event! We 
 will have a few different stations for you to get socks\, hats\, glove and
  scarfs again this year!
DTSTART;TZID=America/Chicago:20231030T173000
DTEND;TZID=America/Chicago:20231030T193000
LOCATION:
SUMMARY:YWCA Lincoln Trunk or Treat
END:VEVENT
END:VCALENDAR
