BEGIN:VCALENDAR
VERSION:2.0
PRODID:-//www.ywcalincoln.org//NONSGML kigkonsult.se iCalcreator 2.30.10//
CALSCALE:GREGORIAN
METHOD:PUBLISH
UID:e844f68e-ade0-4d23-8fa4-eb7990d4278e
X-WR-CALDESC:
X-WR-RELCALID:48c7f93ce271256c28ac712995d1a624
X-WR-TIMEZONE:America/Chicago
BEGIN:VTIMEZONE
TZID:America/Chicago
BEGIN:STANDARD
TZNAME:CST
DTSTART:20221106T020000
TZOFFSETFROM:-0500
TZOFFSETTO:-0600
RDATE:20231105T020000
RDATE:20241103T020000
END:STANDARD
BEGIN:DAYLIGHT
TZNAME:CDT
DTSTART:20230312T020000
TZOFFSETFROM:-0600
TZOFFSETTO:-0500
RDATE:20240310T020000
RDATE:20250309T020000
END:DAYLIGHT
END:VTIMEZONE
BEGIN:VEVENT
UID:d8085adf-856a-4a13-b6d5-6069e8bab74f
DTSTAMP:20260423T123238Z
DESCRIPTION:
DTSTART;TZID=America/Chicago:20231027T180000
DTEND;TZID=America/Chicago:20231027T200000
LOCATION:
SUMMARY:Take A Break Programming
END:VEVENT
END:VCALENDAR
