BEGIN:VCALENDAR
VERSION:2.0
PRODID:-//www.ywcalincoln.org//NONSGML kigkonsult.se iCalcreator 2.30.10//
CALSCALE:GREGORIAN
METHOD:PUBLISH
UID:f3e30475-7286-4613-9ed0-9e7477fab27d
X-WR-CALDESC:
X-WR-RELCALID:605356e0c4acc5679e02fcb3be290c14
X-WR-TIMEZONE:America/Chicago
BEGIN:VTIMEZONE
TZID:America/Chicago
BEGIN:STANDARD
TZNAME:CST
DTSTART:20221106T020000
TZOFFSETFROM:-0500
TZOFFSETTO:-0600
RDATE:20231105T020000
RDATE:20241103T020000
END:STANDARD
BEGIN:DAYLIGHT
TZNAME:CDT
DTSTART:20230312T020000
TZOFFSETFROM:-0600
TZOFFSETTO:-0500
RDATE:20240310T020000
RDATE:20250309T020000
END:DAYLIGHT
END:VTIMEZONE
BEGIN:VEVENT
UID:8625dfcd-00c1-4173-82f5-3819bb55078e
DTSTAMP:20260423T123318Z
DESCRIPTION:
DTSTART;TZID=America/Chicago:20231023T153000
DTEND;TZID=America/Chicago:20231023T170000
LOCATION:
SUMMARY:Lincoln High School CATCH Program
END:VEVENT
END:VCALENDAR
