BEGIN:VCALENDAR
VERSION:2.0
PRODID:-//www.ywcalincoln.org//NONSGML kigkonsult.se iCalcreator 2.30.10//
CALSCALE:GREGORIAN
METHOD:PUBLISH
UID:9783fc22-a592-424c-bb7d-c4ddd4e71bf3
X-WR-CALDESC:YWCA Lincoln is hosting a Financial Literacy Workshop on Octob
 er 14th from 9 AM to 11:30 AM.
X-WR-RELCALID:a8d4605eed541287220fc365fbcb512a
X-WR-TIMEZONE:America/Chicago
BEGIN:VTIMEZONE
TZID:America/Chicago
BEGIN:STANDARD
TZNAME:CST
DTSTART:20221106T020000
TZOFFSETFROM:-0500
TZOFFSETTO:-0600
RDATE:20231105T020000
RDATE:20241103T020000
END:STANDARD
BEGIN:DAYLIGHT
TZNAME:CDT
DTSTART:20230312T020000
TZOFFSETFROM:-0600
TZOFFSETTO:-0500
RDATE:20240310T020000
RDATE:20250309T020000
END:DAYLIGHT
END:VTIMEZONE
BEGIN:VEVENT
UID:82f6d996-54ca-44ff-9198-902d587291b5
DTSTAMP:20260423T123404Z
DESCRIPTION:YWCA Lincoln is hosting a Financial Literacy Workshop on Octobe
 r 14th from 9 AM to 11:30 AM.
DTSTART;TZID=America/Chicago:20231014T090000
DTEND;TZID=America/Chicago:20231014T113000
LOCATION:
SUMMARY:Financial Literacy Workshop
END:VEVENT
END:VCALENDAR
