BEGIN:VCALENDAR
VERSION:2.0
PRODID:-//www.ywcalincoln.org//NONSGML kigkonsult.se iCalcreator 2.30.10//
CALSCALE:GREGORIAN
METHOD:PUBLISH
UID:cd03370b-3a0a-49a5-9364-22190a4a8f3b
X-WR-CALDESC:
X-WR-RELCALID:831c4afd825701219dc97156191055bf
X-WR-TIMEZONE:America/Chicago
BEGIN:VTIMEZONE
TZID:America/Chicago
BEGIN:STANDARD
TZNAME:CST
DTSTART:20221106T020000
TZOFFSETFROM:-0500
TZOFFSETTO:-0600
RDATE:20231105T020000
RDATE:20241103T020000
END:STANDARD
BEGIN:DAYLIGHT
TZNAME:CDT
DTSTART:20230312T020000
TZOFFSETFROM:-0600
TZOFFSETTO:-0500
RDATE:20240310T020000
RDATE:20250309T020000
END:DAYLIGHT
END:VTIMEZONE
BEGIN:VEVENT
UID:d707ae55-8c3d-4431-a2d9-9fc0596d2bcf
DTSTAMP:20260423T144129Z
DESCRIPTION:
DTSTART;TZID=America/Chicago:20230928T144500
DTEND;TZID=America/Chicago:20230928T160000
LOCATION:
SUMMARY:Holmes Elementary School SMART Girls Club
END:VEVENT
END:VCALENDAR
