BEGIN:VCALENDAR
VERSION:2.0
PRODID:-//www.ywcalincoln.org//NONSGML kigkonsult.se iCalcreator 2.30.10//
CALSCALE:GREGORIAN
METHOD:PUBLISH
UID:e0e2352b-8d2a-4538-b5f3-68df1085979b
X-WR-CALDESC:Project Connect Lincoln (formerly Project Homeless Connect) is
  a one-day\, one-stop event where individuals and families who are homeles
 s or at-risk of homelessness are able to receive a wide variety of immedia
 te\, on-site services and support for unmet needs. YWCA Lincoln will have 
 a booth at Project Connect Lincoln and will be providing program informati
 on as well as on-site clothing vouchers through of Job Outfitters program 
 for work attire.
X-WR-RELCALID:2a5fe7c6982b7a7ca587eb69778d1c1c
X-WR-TIMEZONE:America/Chicago
BEGIN:VTIMEZONE
TZID:America/Chicago
BEGIN:STANDARD
TZNAME:CST
DTSTART:20221106T020000
TZOFFSETFROM:-0500
TZOFFSETTO:-0600
RDATE:20231105T020000
RDATE:20241103T020000
END:STANDARD
BEGIN:DAYLIGHT
TZNAME:CDT
DTSTART:20230312T020000
TZOFFSETFROM:-0600
TZOFFSETTO:-0500
RDATE:20240310T020000
RDATE:20250309T020000
END:DAYLIGHT
END:VTIMEZONE
BEGIN:VEVENT
UID:c04e054b-6da6-4f8f-b4a8-469f418f8152
DTSTAMP:20260423T141610Z
DESCRIPTION:Project Connect Lincoln (formerly Project Homeless Connect) is 
 a one-day\, one-stop event where individuals and families who are homeless
  or at-risk of homelessness are able to receive a wide variety of immediat
 e\, on-site services and support for unmet needs. YWCA Lincoln will have a
  booth at Project Connect Lincoln and will be providing program informatio
 n as well as on-site clothing vouchers through of Job Outfitters program f
 or work attire.
DTSTART;TZID=America/Chicago:20230926T090000
DTEND;TZID=America/Chicago:20230926T153000
LOCATION:
SUMMARY:Project Connect
END:VEVENT
END:VCALENDAR
