BEGIN:VCALENDAR
VERSION:2.0
PRODID:-//www.ywcalincoln.org//NONSGML kigkonsult.se iCalcreator 2.30.10//
CALSCALE:GREGORIAN
METHOD:PUBLISH
UID:da3875e0-0bcc-4a0f-b695-8294a50be62a
X-WR-CALDESC:
X-WR-RELCALID:23ef000b6e010145d8f474235675e5ef
X-WR-TIMEZONE:America/Chicago
BEGIN:VTIMEZONE
TZID:America/Chicago
BEGIN:STANDARD
TZNAME:CST
DTSTART:20221106T020000
TZOFFSETFROM:-0500
TZOFFSETTO:-0600
RDATE:20231105T020000
RDATE:20241103T020000
END:STANDARD
BEGIN:DAYLIGHT
TZNAME:CDT
DTSTART:20230312T020000
TZOFFSETFROM:-0600
TZOFFSETTO:-0500
RDATE:20240310T020000
RDATE:20250309T020000
END:DAYLIGHT
END:VTIMEZONE
BEGIN:VEVENT
UID:49e22a1e-fc50-4f1e-8825-e6aba70ec752
DTSTAMP:20260423T143731Z
DESCRIPTION:
DTSTART;TZID=America/Chicago:20230925T153000
DTEND;TZID=America/Chicago:20230925T170000
LOCATION:
SUMMARY:Lincoln High School CATCH Program
END:VEVENT
END:VCALENDAR
