BEGIN:VCALENDAR
VERSION:2.0
PRODID:-//www.ywcalincoln.org//NONSGML kigkonsult.se iCalcreator 2.30.10//
CALSCALE:GREGORIAN
METHOD:PUBLISH
UID:e610823e-320e-43f6-9d08-de7dbcc78280
X-WR-CALDESC:Streets Alive! is a movement festival celebrated in cities acr
 oss America and the world that cordons off a section of a city to let peop
 le literally play in the streets.\n\nPartnership for a Healthy Lincoln bro
 ught the Streets Alive! concept to Lincoln starting in 2010 as an annual e
 vent. Streets Alive! is a FREE community festival that promotes active liv
 ing and healthy nutrition in a fun and interactive way. Weather and commun
 ity health circumstances permitting\, Streets Alive! is an outdoor event. 
 Streets Alive! 2023 is Sunday\, September 24 and will again be hosted by t
 he University Place neighborhood\, from 1 - 4:30 PM.\n\nCome see YWCA Linc
 oln at Streets Alive 2023!
X-WR-RELCALID:087d2462bae41dbf28f0e568bfe369b2
X-WR-TIMEZONE:America/Chicago
BEGIN:VTIMEZONE
TZID:America/Chicago
BEGIN:STANDARD
TZNAME:CST
DTSTART:20221106T020000
TZOFFSETFROM:-0500
TZOFFSETTO:-0600
RDATE:20231105T020000
RDATE:20241103T020000
END:STANDARD
BEGIN:DAYLIGHT
TZNAME:CDT
DTSTART:20230312T020000
TZOFFSETFROM:-0600
TZOFFSETTO:-0500
RDATE:20240310T020000
RDATE:20250309T020000
END:DAYLIGHT
END:VTIMEZONE
BEGIN:VEVENT
UID:b3c76ac0-3d34-4574-b753-21ba08f53bad
DTSTAMP:20260423T144613Z
DESCRIPTION:Streets Alive! is a movement festival celebrated in cities acro
 ss America and the world that cordons off a section of a city to let peopl
 e literally play in the streets.\n\nPartnership for a Healthy Lincoln brou
 ght the Streets Alive! concept to Lincoln starting in 2010 as an annual ev
 ent. Streets Alive! is a FREE community festival that promotes active livi
 ng and healthy nutrition in a fun and interactive way. Weather and communi
 ty health circumstances permitting\, Streets Alive! is an outdoor event. S
 treets Alive! 2023 is Sunday\, September 24 and will again be hosted by th
 e University Place neighborhood\, from 1 - 4:30 PM.\n\nCome see YWCA Linco
 ln at Streets Alive 2023!
DTSTART;TZID=America/Chicago:20230924T130000
DTEND;TZID=America/Chicago:20230924T160000
LOCATION:
SUMMARY:Streets Alive
END:VEVENT
END:VCALENDAR
