BEGIN:VCALENDAR
VERSION:2.0
PRODID:-//www.ywcalincoln.org//NONSGML kigkonsult.se iCalcreator 2.30.10//
CALSCALE:GREGORIAN
METHOD:PUBLISH
UID:be846ffa-990d-4235-abd5-328c9965116b
X-WR-CALDESC:
X-WR-RELCALID:dcfabb80c3e383dc850c0dd5c9e68091
X-WR-TIMEZONE:America/Chicago
BEGIN:VTIMEZONE
TZID:America/Chicago
BEGIN:STANDARD
TZNAME:CST
DTSTART:20221106T020000
TZOFFSETFROM:-0500
TZOFFSETTO:-0600
RDATE:20231105T020000
RDATE:20241103T020000
END:STANDARD
BEGIN:DAYLIGHT
TZNAME:CDT
DTSTART:20230312T020000
TZOFFSETFROM:-0600
TZOFFSETTO:-0500
RDATE:20240310T020000
RDATE:20250309T020000
END:DAYLIGHT
END:VTIMEZONE
BEGIN:VEVENT
UID:29453861-6ba7-4079-a8bf-53b4c2e50916
DTSTAMP:20260423T141534Z
DESCRIPTION:
DTSTART;TZID=America/Chicago:20230922T180000
DTEND;TZID=America/Chicago:20230922T200000
LOCATION:
SUMMARY:Take A Break Programming
END:VEVENT
END:VCALENDAR
