BEGIN:VCALENDAR
VERSION:2.0
PRODID:-//www.ywcalincoln.org//NONSGML kigkonsult.se iCalcreator 2.30.10//
CALSCALE:GREGORIAN
METHOD:PUBLISH
UID:15739a32-fefe-44f5-8c68-1b7d60f8235c
X-WR-CALDESC:
X-WR-RELCALID:ec2128d7998d3b58730b4a5e4e4eb67c
X-WR-TIMEZONE:America/Chicago
BEGIN:VTIMEZONE
TZID:America/Chicago
BEGIN:STANDARD
TZNAME:CST
DTSTART:20221106T020000
TZOFFSETFROM:-0500
TZOFFSETTO:-0600
RDATE:20231105T020000
RDATE:20241103T020000
END:STANDARD
BEGIN:DAYLIGHT
TZNAME:CDT
DTSTART:20230312T020000
TZOFFSETFROM:-0600
TZOFFSETTO:-0500
RDATE:20240310T020000
RDATE:20250309T020000
END:DAYLIGHT
END:VTIMEZONE
BEGIN:VEVENT
UID:3ac6c434-fa7b-4016-b190-55018768609c
DTSTAMP:20260423T144842Z
DESCRIPTION:
DTSTART;TZID=America/Chicago:20230921T144500
DTEND;TZID=America/Chicago:20230921T160000
LOCATION:
SUMMARY:Belmont Elementary SMART Girls Club
END:VEVENT
END:VCALENDAR
