BEGIN:VCALENDAR
VERSION:2.0
PRODID:-//www.ywcalincoln.org//NONSGML kigkonsult.se iCalcreator 2.30.10//
CALSCALE:GREGORIAN
METHOD:PUBLISH
UID:2bf1c238-f41a-4f9c-916f-b90aaab32faa
X-WR-CALDESC:
X-WR-RELCALID:c7a86e5e48ea14e4e348772c6a220ce4
X-WR-TIMEZONE:America/Chicago
BEGIN:VTIMEZONE
TZID:America/Chicago
BEGIN:STANDARD
TZNAME:CST
DTSTART:20221106T020000
TZOFFSETFROM:-0500
TZOFFSETTO:-0600
RDATE:20231105T020000
RDATE:20241103T020000
END:STANDARD
BEGIN:DAYLIGHT
TZNAME:CDT
DTSTART:20230312T020000
TZOFFSETFROM:-0600
TZOFFSETTO:-0500
RDATE:20240310T020000
RDATE:20250309T020000
END:DAYLIGHT
END:VTIMEZONE
BEGIN:VEVENT
UID:01c8e03d-0e32-4783-b595-12044ae88d34
DTSTAMP:20260423T144318Z
DESCRIPTION:
DTSTART;TZID=America/Chicago:20230918T173000
DTEND;TZID=America/Chicago:20230918T190000
LOCATION:
SUMMARY:Lincoln High CATCH Parent Orientation
END:VEVENT
END:VCALENDAR
