BEGIN:VCALENDAR
VERSION:2.0
PRODID:-//www.ywcalincoln.org//NONSGML kigkonsult.se iCalcreator 2.30.10//
CALSCALE:GREGORIAN
METHOD:PUBLISH
UID:886d9129-7428-477c-a8d7-3b26d9a0308f
X-WR-CALDESC:
X-WR-RELCALID:abf04a7c00cfa8e92b25c4a3a0b9e901
X-WR-TIMEZONE:America/Chicago
BEGIN:VTIMEZONE
TZID:America/Chicago
BEGIN:STANDARD
TZNAME:CST
DTSTART:20221106T020000
TZOFFSETFROM:-0500
TZOFFSETTO:-0600
RDATE:20231105T020000
RDATE:20241103T020000
END:STANDARD
BEGIN:DAYLIGHT
TZNAME:CDT
DTSTART:20230312T020000
TZOFFSETFROM:-0600
TZOFFSETTO:-0500
RDATE:20240310T020000
RDATE:20250309T020000
END:DAYLIGHT
END:VTIMEZONE
BEGIN:VEVENT
UID:062a21a3-31fa-4981-98ee-440bc5dd48eb
DTSTAMP:20260423T141703Z
DESCRIPTION:
DTSTART;TZID=America/Chicago:20230915T000000
DTEND;TZID=America/Chicago:20230915T235900
LOCATION:
SUMMARY:First Day of Hispanic Heritage Month
END:VEVENT
END:VCALENDAR
