BEGIN:VCALENDAR
VERSION:2.0
PRODID:-//www.ywcalincoln.org//NONSGML kigkonsult.se iCalcreator 2.30.10//
CALSCALE:GREGORIAN
METHOD:PUBLISH
UID:1930bb3b-889f-43cb-ac4e-40adffcc305f
X-WR-CALDESC:
X-WR-RELCALID:4a54bf52bc0d711cb2b5749d0b7c38ff
X-WR-TIMEZONE:America/Chicago
BEGIN:VTIMEZONE
TZID:America/Chicago
BEGIN:STANDARD
TZNAME:CST
DTSTART:20221106T020000
TZOFFSETFROM:-0500
TZOFFSETTO:-0600
RDATE:20231105T020000
RDATE:20241103T020000
END:STANDARD
BEGIN:DAYLIGHT
TZNAME:CDT
DTSTART:20230312T020000
TZOFFSETFROM:-0600
TZOFFSETTO:-0500
RDATE:20240310T020000
RDATE:20250309T020000
END:DAYLIGHT
END:VTIMEZONE
BEGIN:VEVENT
UID:f164acec-6f6f-4a1c-8cba-8279036ed3e3
DTSTAMP:20260423T142405Z
DESCRIPTION:
DTSTART;TZID=America/Chicago:20230915T094500
DTEND;TZID=America/Chicago:20230915T114500
LOCATION:
SUMMARY:Goodrich Middle School Girls Circle
END:VEVENT
END:VCALENDAR
