BEGIN:VCALENDAR
VERSION:2.0
PRODID:-//www.ywcalincoln.org//NONSGML kigkonsult.se iCalcreator 2.30.10//
CALSCALE:GREGORIAN
METHOD:PUBLISH
UID:6dfc9a88-0f5c-4765-ba71-2a677cf198a1
X-WR-CALDESC:Hello YWCA Lincoln Supporter! You're invited to our Tour & Tea
  Time which is a supporter appreciation night\, just for you! \n\nPlease j
 oin us at our YWCA Lincoln office\, to sip tea\, tour our new space and me
 et staff and new board members! We will have a few fun activities for you 
 to participate in that highlight some of our programs and new board member
 s! \n\nPlease RSVP for our event and let us know if you can make it by Sep
 tember 14th! 
X-WR-RELCALID:fbb582a9e4d96ac0b51609187967fe0c
X-WR-TIMEZONE:America/Chicago
BEGIN:VTIMEZONE
TZID:America/Chicago
BEGIN:STANDARD
TZNAME:CST
DTSTART:20221106T020000
TZOFFSETFROM:-0500
TZOFFSETTO:-0600
RDATE:20231105T020000
RDATE:20241103T020000
END:STANDARD
BEGIN:DAYLIGHT
TZNAME:CDT
DTSTART:20230312T020000
TZOFFSETFROM:-0600
TZOFFSETTO:-0500
RDATE:20240310T020000
RDATE:20250309T020000
END:DAYLIGHT
END:VTIMEZONE
BEGIN:VEVENT
UID:82664cff-c9d1-47ab-881e-449e9c470124
DTSTAMP:20260423T144012Z
DESCRIPTION:Hello YWCA Lincoln Supporter! You're invited to our Tour & Tea 
 Time which is a supporter appreciation night\, just for you! \n\nPlease jo
 in us at our YWCA Lincoln office\, to sip tea\, tour our new space and mee
 t staff and new board members! We will have a few fun activities for you t
 o participate in that highlight some of our programs and new board members
 ! \n\nPlease RSVP for our event and let us know if you can make it by Sept
 ember 14th! 
DTSTART;TZID=America/Chicago:20230914T173000
DTEND;TZID=America/Chicago:20230914T193000
LOCATION:5631 S. 48th St \, Suite 410\, Lincoln\, NE 68516 US
SUMMARY:Tour & Tea Time Event
END:VEVENT
END:VCALENDAR
