BEGIN:VCALENDAR
VERSION:2.0
PRODID:-//www.ywcalincoln.org//NONSGML kigkonsult.se iCalcreator 2.30.10//
CALSCALE:GREGORIAN
METHOD:PUBLISH
UID:048137aa-eaa9-4133-9064-151cd6a634dc
X-WR-CALDESC:
X-WR-RELCALID:40efbd813c5284121582be81d8184e64
X-WR-TIMEZONE:America/Chicago
BEGIN:VTIMEZONE
TZID:America/Chicago
BEGIN:STANDARD
TZNAME:CST
DTSTART:20221106T020000
TZOFFSETFROM:-0500
TZOFFSETTO:-0600
RDATE:20231105T020000
RDATE:20241103T020000
END:STANDARD
BEGIN:DAYLIGHT
TZNAME:CDT
DTSTART:20230312T020000
TZOFFSETFROM:-0600
TZOFFSETTO:-0500
RDATE:20240310T020000
RDATE:20250309T020000
END:DAYLIGHT
END:VTIMEZONE
BEGIN:VEVENT
UID:fcfd4c26-220d-488c-bd96-66aa3888ba9d
DTSTAMP:20260423T145017Z
DESCRIPTION:
DTSTART;TZID=America/Chicago:20230911T000000
DTEND;TZID=America/Chicago:20230911T235900
LOCATION:
SUMMARY:9/11 Remembrance Day
END:VEVENT
END:VCALENDAR
