BEGIN:VCALENDAR
VERSION:2.0
PRODID:-//www.ywcalincoln.org//NONSGML kigkonsult.se iCalcreator 2.30.10//
CALSCALE:GREGORIAN
METHOD:PUBLISH
UID:c4c57365-8fa1-4631-b439-a9087f76d1bc
X-WR-CALDESC:
X-WR-RELCALID:f779ff0c05401a754f9f29bee97e92a1
X-WR-TIMEZONE:America/Chicago
BEGIN:VTIMEZONE
TZID:America/Chicago
BEGIN:STANDARD
TZNAME:CST
DTSTART:20221106T020000
TZOFFSETFROM:-0500
TZOFFSETTO:-0600
RDATE:20231105T020000
RDATE:20241103T020000
END:STANDARD
BEGIN:DAYLIGHT
TZNAME:CDT
DTSTART:20230312T020000
TZOFFSETFROM:-0600
TZOFFSETTO:-0500
RDATE:20240310T020000
RDATE:20250309T020000
END:DAYLIGHT
END:VTIMEZONE
BEGIN:VEVENT
UID:b4877192-b8ae-4aa3-b5a5-65c770bbb68c
DTSTAMP:20260423T141529Z
DESCRIPTION:
DTSTART;TZID=America/Chicago:20230908T180000
DTEND;TZID=America/Chicago:20230908T200000
LOCATION:
SUMMARY:Take A Break Programming
END:VEVENT
END:VCALENDAR
