BEGIN:VCALENDAR
VERSION:2.0
PRODID:-//www.ywcalincoln.org//NONSGML kigkonsult.se iCalcreator 2.30.10//
CALSCALE:GREGORIAN
METHOD:PUBLISH
UID:3ca255f2-2d5b-46c0-a924-8301ef1b5bd3
X-WR-CALDESC:
X-WR-RELCALID:74b93a376739b3c5206d3e49a5a96ce7
X-WR-TIMEZONE:America/Chicago
BEGIN:VTIMEZONE
TZID:America/Chicago
BEGIN:STANDARD
TZNAME:CST
DTSTART:20221106T020000
TZOFFSETFROM:-0500
TZOFFSETTO:-0600
RDATE:20231105T020000
RDATE:20241103T020000
END:STANDARD
BEGIN:DAYLIGHT
TZNAME:CDT
DTSTART:20230312T020000
TZOFFSETFROM:-0600
TZOFFSETTO:-0500
RDATE:20240310T020000
END:DAYLIGHT
END:VTIMEZONE
BEGIN:VEVENT
UID:6c037226-6a64-4036-bb93-6d948e0b96fd
DTSTAMP:20260423T141656Z
DESCRIPTION:
DTSTART;TZID=America/Chicago:20230904T000000
DTEND;TZID=America/Chicago:20230904T235900
LOCATION:
SUMMARY:Labor Day
END:VEVENT
END:VCALENDAR
