BEGIN:VCALENDAR
VERSION:2.0
PRODID:-//www.ywcalincoln.org//NONSGML kigkonsult.se iCalcreator 2.30.10//
CALSCALE:GREGORIAN
METHOD:PUBLISH
UID:8e7f5e1f-6fa0-44ea-8db7-de8439db4991
X-WR-CALDESC:
X-WR-RELCALID:dd079a89f6312661516408f395a9f78b
X-WR-TIMEZONE:America/Chicago
BEGIN:VTIMEZONE
TZID:America/Chicago
BEGIN:STANDARD
TZNAME:CST
DTSTART:20221106T020000
TZOFFSETFROM:-0500
TZOFFSETTO:-0600
RDATE:20231105T020000
RDATE:20241103T020000
END:STANDARD
BEGIN:DAYLIGHT
TZNAME:CDT
DTSTART:20230312T020000
TZOFFSETFROM:-0600
TZOFFSETTO:-0500
RDATE:20240310T020000
END:DAYLIGHT
END:VTIMEZONE
BEGIN:VEVENT
UID:6cf19aa3-7a81-45ea-86d9-1f8cb94f0192
DTSTAMP:20260423T154810Z
DESCRIPTION:
DTSTART;TZID=America/Chicago:20230815T000000
DTEND;TZID=America/Chicago:20230815T235900
LOCATION:
SUMMARY:LPS: First Day
END:VEVENT
END:VCALENDAR
