BEGIN:VCALENDAR
VERSION:2.0
PRODID:-//www.ywcalincoln.org//NONSGML kigkonsult.se iCalcreator 2.30.10//
CALSCALE:GREGORIAN
METHOD:PUBLISH
UID:926aa486-7d60-406a-b5d9-d413d6b6ccc2
X-WR-CALDESC:
X-WR-RELCALID:ac2c8b66bf1751d969864314732d83cf
X-WR-TIMEZONE:America/Chicago
BEGIN:VTIMEZONE
TZID:America/Chicago
BEGIN:STANDARD
TZNAME:CST
DTSTART:20221106T020000
TZOFFSETFROM:-0500
TZOFFSETTO:-0600
RDATE:20231105T020000
RDATE:20241103T020000
END:STANDARD
BEGIN:DAYLIGHT
TZNAME:CDT
DTSTART:20230312T020000
TZOFFSETFROM:-0600
TZOFFSETTO:-0500
RDATE:20240310T020000
END:DAYLIGHT
END:VTIMEZONE
BEGIN:VEVENT
UID:d9aa8665-3748-44d2-9fb1-a82b45252657
DTSTAMP:20260423T170041Z
DESCRIPTION:
DTSTART;TZID=America/Chicago:20230728T000000
DTEND;TZID=America/Chicago:20230728T235900
LOCATION:
SUMMARY:Ashura
END:VEVENT
END:VCALENDAR
