BEGIN:VCALENDAR
VERSION:2.0
PRODID:-//www.ywcalincoln.org//NONSGML kigkonsult.se iCalcreator 2.30.10//
CALSCALE:GREGORIAN
METHOD:PUBLISH
UID:9148bd92-1b64-4c25-b9bc-07e963b57715
X-WR-CALDESC:
X-WR-RELCALID:151e9f488c374efe09875c55c8ed1c90
X-WR-TIMEZONE:America/Chicago
BEGIN:VTIMEZONE
TZID:America/Chicago
BEGIN:STANDARD
TZNAME:CST
DTSTART:20221106T020000
TZOFFSETFROM:-0500
TZOFFSETTO:-0600
RDATE:20231105T020000
RDATE:20241103T020000
END:STANDARD
BEGIN:DAYLIGHT
TZNAME:CDT
DTSTART:20230312T020000
TZOFFSETFROM:-0600
TZOFFSETTO:-0500
RDATE:20240310T020000
END:DAYLIGHT
END:VTIMEZONE
BEGIN:VEVENT
UID:41a972a8-b310-446b-9367-826d931129ef
DTSTAMP:20260423T183937Z
DESCRIPTION:
DTSTART;TZID=America/Chicago:20230629T000000
DTEND;TZID=America/Chicago:20230629T235900
LOCATION:
SUMMARY:Eid al-Adha
END:VEVENT
END:VCALENDAR
