BEGIN:VCALENDAR
VERSION:2.0
PRODID:-//www.ywcalincoln.org//NONSGML kigkonsult.se iCalcreator 2.30.10//
CALSCALE:GREGORIAN
METHOD:PUBLISH
UID:098113e3-5f30-40b1-92c3-96485f112305
X-WR-CALDESC:
X-WR-RELCALID:9fa56af2d3576c854b93086444e5b301
X-WR-TIMEZONE:America/Chicago
BEGIN:VTIMEZONE
TZID:America/Chicago
BEGIN:STANDARD
TZNAME:CST
DTSTART:20221106T020000
TZOFFSETFROM:-0500
TZOFFSETTO:-0600
RDATE:20231105T020000
RDATE:20241103T020000
END:STANDARD
BEGIN:DAYLIGHT
TZNAME:CDT
DTSTART:20230312T020000
TZOFFSETFROM:-0600
TZOFFSETTO:-0500
RDATE:20240310T020000
END:DAYLIGHT
END:VTIMEZONE
BEGIN:VEVENT
UID:b41ccbc5-11c0-4d72-b997-3b27b45091ae
DTSTAMP:20260423T183927Z
DESCRIPTION:
DTSTART;TZID=America/Chicago:20230619T000000
DTEND;TZID=America/Chicago:20230619T235900
LOCATION:
SUMMARY:Juneteenth
END:VEVENT
END:VCALENDAR
