BEGIN:VCALENDAR
VERSION:2.0
PRODID:-//www.ywcalincoln.org//NONSGML kigkonsult.se iCalcreator 2.30.10//
CALSCALE:GREGORIAN
METHOD:PUBLISH
UID:fb0dfeae-8453-4442-82f3-65d449e45b0c
X-WR-CALDESC:YWCA Lincoln invites you to join us at Capital View Winery for
  light snacks\, conversation and more to thank you for your support of our
  mission of eliminating racism and empowering women. In addition\, we will
  also have a few gift baskets which will be raffled off with all proceeds 
 going to the YWCA Lincoln.\n\nPlease note that your ticket will include on
 e glass of wine!
X-WR-RELCALID:30ad717d082fbce0ae68fd389213a2c9
X-WR-TIMEZONE:America/Chicago
BEGIN:VTIMEZONE
TZID:America/Chicago
BEGIN:STANDARD
TZNAME:CST
DTSTART:20221106T020000
TZOFFSETFROM:-0500
TZOFFSETTO:-0600
RDATE:20231105T020000
RDATE:20241103T020000
END:STANDARD
BEGIN:DAYLIGHT
TZNAME:CDT
DTSTART:20230312T020000
TZOFFSETFROM:-0600
TZOFFSETTO:-0500
RDATE:20240310T020000
END:DAYLIGHT
END:VTIMEZONE
BEGIN:VEVENT
UID:52a82912-a8f7-4b18-a1fd-4bb595e95b20
DTSTAMP:20260423T184033Z
DESCRIPTION:YWCA Lincoln invites you to join us at Capital View Winery for 
 light snacks\, conversation and more to thank you for your support of our 
 mission of eliminating racism and empowering women. In addition\, we will 
 also have a few gift baskets which will be raffled off with all proceeds g
 oing to the YWCA Lincoln.\n\nPlease note that your ticket will include one
  glass of wine!
DTSTART;TZID=America/Chicago:20230615T190000
DTEND;TZID=America/Chicago:20230615T210000
LOCATION:2361 Wittstruck Rd \, Roca \, NE 68430 US
SUMMARY:Wine for YWCA Lincoln
END:VEVENT
END:VCALENDAR
