BEGIN:VCALENDAR
VERSION:2.0
PRODID:-//www.ywcalincoln.org//NONSGML kigkonsult.se iCalcreator 2.30.10//
CALSCALE:GREGORIAN
METHOD:PUBLISH
UID:a86263f1-863c-4600-8e76-f4d4f4aa9021
X-WR-CALDESC:
X-WR-RELCALID:914eb0d4b55708f5c9d624b69c653456
X-WR-TIMEZONE:America/Chicago
BEGIN:VTIMEZONE
TZID:America/Chicago
BEGIN:STANDARD
TZNAME:CST
DTSTART:20221106T020000
TZOFFSETFROM:-0500
TZOFFSETTO:-0600
RDATE:20231105T020000
RDATE:20241103T020000
END:STANDARD
BEGIN:DAYLIGHT
TZNAME:CDT
DTSTART:20230312T020000
TZOFFSETFROM:-0600
TZOFFSETTO:-0500
RDATE:20240310T020000
END:DAYLIGHT
END:VTIMEZONE
BEGIN:VEVENT
UID:c7a3d3d6-1672-42e7-bc27-78a948aa0302
DTSTAMP:20260423T183927Z
DESCRIPTION:
DTSTART;TZID=America/Chicago:20230614T000000
DTEND;TZID=America/Chicago:20230614T235900
LOCATION:
SUMMARY:Flag Day
END:VEVENT
END:VCALENDAR
