BEGIN:VCALENDAR
VERSION:2.0
PRODID:-//www.ywcalincoln.org//NONSGML kigkonsult.se iCalcreator 2.30.10//
CALSCALE:GREGORIAN
METHOD:PUBLISH
UID:ba9a95c5-20db-4dbe-a889-54a8454bc945
X-WR-CALDESC:
X-WR-RELCALID:ad72872f3c7698a69e0c0e123746aafb
X-WR-TIMEZONE:America/Chicago
BEGIN:VTIMEZONE
TZID:America/Chicago
BEGIN:STANDARD
TZNAME:CST
DTSTART:20221106T020000
TZOFFSETFROM:-0500
TZOFFSETTO:-0600
RDATE:20231105T020000
RDATE:20241103T020000
END:STANDARD
BEGIN:DAYLIGHT
TZNAME:CDT
DTSTART:20230312T020000
TZOFFSETFROM:-0600
TZOFFSETTO:-0500
RDATE:20240310T020000
END:DAYLIGHT
END:VTIMEZONE
BEGIN:VEVENT
UID:58ce6e11-1b6d-41db-95c2-1d92d8c14e7b
DTSTAMP:20260423T202247Z
DESCRIPTION:
DTSTART;TZID=America/Chicago:20230529T000000
DTEND;TZID=America/Chicago:20230529T235900
LOCATION:
SUMMARY:Memorial Day
END:VEVENT
END:VCALENDAR
