BEGIN:VCALENDAR
VERSION:2.0
PRODID:-//www.ywcalincoln.org//NONSGML kigkonsult.se iCalcreator 2.30.10//
CALSCALE:GREGORIAN
METHOD:PUBLISH
UID:b358a4c5-40f7-446c-ad78-2b1422011229
X-WR-CALDESC:Your generous support of the YWCA Lincoln enables us to contin
 ue a 135-year legacy of developing sound character\, building strong minds
  and bodies\, empowering women\, and eliminating racism. On Give to Lincol
 n Day\, your support means even more as we will be able to earn part of th
 e $500\,000 community matching fund.
X-WR-RELCALID:7b78f9e34a913d529b064c3be431e0c0
X-WR-TIMEZONE:America/Chicago
BEGIN:VTIMEZONE
TZID:America/Chicago
BEGIN:STANDARD
TZNAME:CST
DTSTART:20221106T020000
TZOFFSETFROM:-0500
TZOFFSETTO:-0600
RDATE:20231105T020000
RDATE:20241103T020000
END:STANDARD
BEGIN:DAYLIGHT
TZNAME:CDT
DTSTART:20230312T020000
TZOFFSETFROM:-0600
TZOFFSETTO:-0500
RDATE:20240310T020000
END:DAYLIGHT
END:VTIMEZONE
BEGIN:VEVENT
UID:694b8d53-435e-4cf5-85d8-1c14568cf1d6
DTSTAMP:20260423T202518Z
DESCRIPTION:Your generous support of the YWCA Lincoln enables us to continu
 e a 135-year legacy of developing sound character\, building strong minds 
 and bodies\, empowering women\, and eliminating racism. On Give to Lincoln
  Day\, your support means even more as we will be able to earn part of the
  $500\,000 community matching fund.
DTSTART;TZID=America/Chicago:20230524T000000
DTEND;TZID=America/Chicago:20230524T235900
LOCATION:https://www.givetolincoln.com/nonprofits/ywca-lincoln
SUMMARY:Give To Lincoln Day
END:VEVENT
END:VCALENDAR
