BEGIN:VCALENDAR
VERSION:2.0
PRODID:-//www.ywcalincoln.org//NONSGML kigkonsult.se iCalcreator 2.30.10//
CALSCALE:GREGORIAN
METHOD:PUBLISH
UID:8596ad59-9c2d-4cc5-82ef-f06400e872f5
X-WR-CALDESC:
X-WR-RELCALID:438de67b62488d8fabe6754799ae3b67
X-WR-TIMEZONE:America/Chicago
BEGIN:VTIMEZONE
TZID:America/Chicago
BEGIN:STANDARD
TZNAME:CST
DTSTART:20221106T020000
TZOFFSETFROM:-0500
TZOFFSETTO:-0600
RDATE:20231105T020000
RDATE:20241103T020000
END:STANDARD
BEGIN:DAYLIGHT
TZNAME:CDT
DTSTART:20230312T020000
TZOFFSETFROM:-0600
TZOFFSETTO:-0500
RDATE:20240310T020000
END:DAYLIGHT
END:VTIMEZONE
BEGIN:VEVENT
UID:e0a5cba5-efac-4ad8-b58e-df29a7545d52
DTSTAMP:20260423T202344Z
DESCRIPTION:
DTSTART;TZID=America/Chicago:20230514T000000
DTEND;TZID=America/Chicago:20230514T235900
LOCATION:
SUMMARY:Mother's Day
END:VEVENT
END:VCALENDAR
