BEGIN:VCALENDAR
VERSION:2.0
PRODID:-//www.ywcalincoln.org//NONSGML kigkonsult.se iCalcreator 2.30.10//
CALSCALE:GREGORIAN
METHOD:PUBLISH
UID:0321ec26-fe54-44d0-87e4-ae50af1f93da
X-WR-CALDESC:
X-WR-RELCALID:9bf90450c258286d06487bf5263e2c98
X-WR-TIMEZONE:America/Chicago
BEGIN:VTIMEZONE
TZID:America/Chicago
BEGIN:STANDARD
TZNAME:CST
DTSTART:20221106T020000
TZOFFSETFROM:-0500
TZOFFSETTO:-0600
RDATE:20231105T020000
END:STANDARD
BEGIN:DAYLIGHT
TZNAME:CDT
DTSTART:20230312T020000
TZOFFSETFROM:-0600
TZOFFSETTO:-0500
RDATE:20240310T020000
END:DAYLIGHT
END:VTIMEZONE
BEGIN:VEVENT
UID:60ac4380-7af9-490f-a065-ea74ab3037c8
DTSTAMP:20260423T202453Z
DESCRIPTION:
DTSTART;TZID=America/Chicago:20230501T000000
DTEND;TZID=America/Chicago:20230501T235900
LOCATION:
SUMMARY:Asian Pacific American Heritage Month Begins
END:VEVENT
END:VCALENDAR
