BEGIN:VCALENDAR
VERSION:2.0
PRODID:-//www.ywcalincoln.org//NONSGML kigkonsult.se iCalcreator 2.30.10//
CALSCALE:GREGORIAN
METHOD:PUBLISH
UID:6e28a39b-1e6b-4cb4-b015-600ba221ea49
X-WR-CALDESC:
X-WR-RELCALID:1e383cf5c7a776f922f7d4adbf82876a
X-WR-TIMEZONE:America/Chicago
BEGIN:VTIMEZONE
TZID:America/Chicago
BEGIN:STANDARD
TZNAME:CST
DTSTART:20221106T020000
TZOFFSETFROM:-0500
TZOFFSETTO:-0600
RDATE:20231105T020000
END:STANDARD
BEGIN:DAYLIGHT
TZNAME:CDT
DTSTART:20230312T020000
TZOFFSETFROM:-0600
TZOFFSETTO:-0500
RDATE:20240310T020000
END:DAYLIGHT
END:VTIMEZONE
BEGIN:VEVENT
UID:65942cc5-558c-484e-be6b-ed3701ce998a
DTSTAMP:20260423T221210Z
DESCRIPTION:
DTSTART;TZID=America/Chicago:20230424T000000
DTEND;TZID=America/Chicago:20230424T235900
LOCATION:
SUMMARY:World YWCA Day
END:VEVENT
END:VCALENDAR
