BEGIN:VCALENDAR
VERSION:2.0
PRODID:-//www.ywcalincoln.org//NONSGML kigkonsult.se iCalcreator 2.30.10//
CALSCALE:GREGORIAN
METHOD:PUBLISH
UID:1f656334-4f9f-4a28-957c-101c5b88d156
X-WR-CALDESC:
X-WR-RELCALID:37a2a089e9474fb0dd96f8ff72315ebd
X-WR-TIMEZONE:America/Chicago
BEGIN:VTIMEZONE
TZID:America/Chicago
BEGIN:STANDARD
TZNAME:CST
DTSTART:20221106T020000
TZOFFSETFROM:-0500
TZOFFSETTO:-0600
RDATE:20231105T020000
END:STANDARD
BEGIN:DAYLIGHT
TZNAME:CDT
DTSTART:20230312T020000
TZOFFSETFROM:-0600
TZOFFSETTO:-0500
RDATE:20240310T020000
END:DAYLIGHT
END:VTIMEZONE
BEGIN:VEVENT
UID:072c15a3-d06f-49c4-969e-ad9835ed8c23
DTSTAMP:20260423T221210Z
DESCRIPTION:
DTSTART;TZID=America/Chicago:20230422T000000
DTEND;TZID=America/Chicago:20230422T235900
LOCATION:
SUMMARY:Earth Day
END:VEVENT
END:VCALENDAR
