BEGIN:VCALENDAR
VERSION:2.0
PRODID:-//www.ywcalincoln.org//NONSGML kigkonsult.se iCalcreator 2.30.10//
CALSCALE:GREGORIAN
METHOD:PUBLISH
UID:69aeb561-1b67-46ee-b9c6-d9d88c53594e
X-WR-CALDESC:
X-WR-RELCALID:9efc683cd225064e7b61a50968cb4cd6
X-WR-TIMEZONE:America/Chicago
BEGIN:VTIMEZONE
TZID:America/Chicago
BEGIN:STANDARD
TZNAME:CST
DTSTART:20221106T020000
TZOFFSETFROM:-0500
TZOFFSETTO:-0600
RDATE:20231105T020000
END:STANDARD
BEGIN:DAYLIGHT
TZNAME:CDT
DTSTART:20230312T020000
TZOFFSETFROM:-0600
TZOFFSETTO:-0500
RDATE:20240310T020000
END:DAYLIGHT
END:VTIMEZONE
BEGIN:VEVENT
UID:6c5a997d-b3c5-4ea3-8203-b0991f093a46
DTSTAMP:20260423T221247Z
DESCRIPTION:
DTSTART;TZID=America/Chicago:20230418T000000
DTEND;TZID=America/Chicago:20230418T235900
LOCATION:
SUMMARY:Tax Day
END:VEVENT
END:VCALENDAR
