BEGIN:VCALENDAR
VERSION:2.0
PRODID:-//www.ywcalincoln.org//NONSGML kigkonsult.se iCalcreator 2.30.10//
CALSCALE:GREGORIAN
METHOD:PUBLISH
UID:f4597512-6385-4ed5-96ed-b9ce9b8072eb
X-WR-CALDESC:
X-WR-RELCALID:7f05d87356bbeac558e74542f76a0161
X-WR-TIMEZONE:America/Chicago
BEGIN:VTIMEZONE
TZID:America/Chicago
BEGIN:STANDARD
TZNAME:CST
DTSTART:20221106T020000
TZOFFSETFROM:-0500
TZOFFSETTO:-0600
RDATE:20231105T020000
END:STANDARD
BEGIN:DAYLIGHT
TZNAME:CDT
DTSTART:20230312T020000
TZOFFSETFROM:-0600
TZOFFSETTO:-0500
RDATE:20240310T020000
END:DAYLIGHT
END:VTIMEZONE
BEGIN:VEVENT
UID:db3419f3-70d9-403a-9e11-b0746d112554
DTSTAMP:20260423T221123Z
DESCRIPTION:
DTSTART;TZID=America/Chicago:20230409T000000
DTEND;TZID=America/Chicago:20230409T235900
LOCATION:
SUMMARY:Easter Sunday
END:VEVENT
END:VCALENDAR
