BEGIN:VCALENDAR
VERSION:2.0
PRODID:-//www.ywcalincoln.org//NONSGML kigkonsult.se iCalcreator 2.30.10//
CALSCALE:GREGORIAN
METHOD:PUBLISH
UID:75e1cd7a-ee26-4762-9ab8-582702b25673
X-WR-CALDESC:During Take A Break programming
X-WR-RELCALID:fbd5e575fc686bd2cdaf6a8938141ffe
X-WR-TIMEZONE:America/Chicago
BEGIN:VTIMEZONE
TZID:America/Chicago
BEGIN:STANDARD
TZNAME:CST
DTSTART:20221106T020000
TZOFFSETFROM:-0500
TZOFFSETTO:-0600
RDATE:20231105T020000
END:STANDARD
BEGIN:DAYLIGHT
TZNAME:CDT
DTSTART:20230312T020000
TZOFFSETFROM:-0600
TZOFFSETTO:-0500
RDATE:20240310T020000
END:DAYLIGHT
END:VTIMEZONE
BEGIN:VEVENT
UID:cc40a571-baf5-4a41-a49a-3c88fb5ec372
DTSTAMP:20260423T234858Z
DESCRIPTION:During Take A Break programming
DTSTART;TZID=America/Chicago:20230324T000000
DTEND;TZID=America/Chicago:20230324T235900
LOCATION:
SUMMARY:Lincoln Fire Dept. visits Take A Break
END:VEVENT
END:VCALENDAR
