BEGIN:VCALENDAR
VERSION:2.0
PRODID:-//www.ywcalincoln.org//NONSGML kigkonsult.se iCalcreator 2.30.10//
CALSCALE:GREGORIAN
METHOD:PUBLISH
UID:c7b658a6-da57-47ab-91a8-600b1203abe2
X-WR-CALDESC:This event is open for all 7th-8th grade girls in the Lincoln 
 area\, and includes a day trip to Homestead National Park at the end of th
 e week\, and guest speakers like a representative from Omaha’s Henry Doorl
 y Zoo!
X-WR-RELCALID:438dcb40f2a352cbef2575410940f882
X-WR-TIMEZONE:America/Chicago
BEGIN:VTIMEZONE
TZID:America/Chicago
BEGIN:STANDARD
TZNAME:CST
DTSTART:20221106T020000
TZOFFSETFROM:-0500
TZOFFSETTO:-0600
RDATE:20231105T020000
END:STANDARD
BEGIN:DAYLIGHT
TZNAME:CDT
DTSTART:20220313T020000
TZOFFSETFROM:-0600
TZOFFSETTO:-0500
RDATE:20230312T020000
RDATE:20240310T020000
END:DAYLIGHT
END:VTIMEZONE
BEGIN:VEVENT
UID:212b7bc9-67bd-4f8b-ac01-adf88a9c19d4
DTSTAMP:20260424T000028Z
DESCRIPTION:This event is open for all 7th-8th grade girls in the Lincoln a
 rea\, and includes a day trip to Homestead National Park at the end of the
  week\, and guest speakers like a representative from Omaha’s Henry Doorly
  Zoo!
DTSTART;TZID=America/Chicago:20230313T000000
DTEND;TZID=America/Chicago:20230317T235900
LOCATION:
SUMMARY:SciGirls Camp
END:VEVENT
END:VCALENDAR
