BEGIN:VCALENDAR
VERSION:2.0
PRODID:-//www.ywcalincoln.org//NONSGML kigkonsult.se iCalcreator 2.30.10//
CALSCALE:GREGORIAN
METHOD:PUBLISH
UID:b64fdce5-b798-4005-9fc1-d257d4aec751
X-WR-CALDESC:
X-WR-RELCALID:50e06a9c93790a8975b561f99c3677c7
X-WR-TIMEZONE:America/Chicago
BEGIN:VTIMEZONE
TZID:America/Chicago
BEGIN:STANDARD
TZNAME:CST
DTSTART:20221106T020000
TZOFFSETFROM:-0500
TZOFFSETTO:-0600
RDATE:20231105T020000
END:STANDARD
BEGIN:DAYLIGHT
TZNAME:CDT
DTSTART:20220313T020000
TZOFFSETFROM:-0600
TZOFFSETTO:-0500
RDATE:20230312T020000
RDATE:20240310T020000
END:DAYLIGHT
END:VTIMEZONE
BEGIN:VEVENT
UID:f0142f02-d787-4ee6-a85b-3b6084ad1be1
DTSTAMP:20260424T001129Z
DESCRIPTION:
DTSTART;TZID=America/Chicago:20230301T000000
DTEND;TZID=America/Chicago:20230301T235900
LOCATION:
SUMMARY:First Day of Women's History Month
END:VEVENT
END:VCALENDAR
